BEGIN:VCALENDAR
VERSION:2.0
PRODID:-//jEvents 2.0 for Joomla//EN
CALSCALE:GREGORIAN
METHOD:PUBLISH
BEGIN:VTIMEZONE
TZID:Europe/Berlin
END:VTIMEZONE
BEGIN:VEVENT
UID:82e99dca53d727859a5ca3fec8d07b19
CATEGORIES:Konzerte
CREATED:20221109T153007
SUMMARY:Duo Konzert mit SABINE VAN BAAREN UND MARK JOGGERST
DESCRIPTION:\nDie Musik von diesem wunderbaren Duo ist wie  "Geschenk aus dem Himmel“.\
 nSabine und Mark werden mit ihren erhebenden Klangcollagen und ihren Songs 
 das Publikum erfreuen.\nSeit 15 Jahren ist das Duo ein echtes Highlight im 
 Hinterhofsalon.\nDas Ziel der beiden ist es, Menschen mit ihrer teils aus d
 em Moment heraus entstehenden Musik im Herzen zu berühren. Wir freuen uns a
 uf ein Konzert mit Musik, die die Kraft hat, inneren Frieden zu vermitteln,
  die Zuhörerinnen und Zuhörer in Verbindung zu sich selbst zu bringen, sie 
 mit besonderen Klängen auf eine innere Reise mitzunehmen. Daneben gibt es w
 ie immer Mut machende Songs, die zu neuen Impulsen und Denkanstößen inspiri
 ert.\nFreuen Sie sich auf ein besinnliches, lebendiges, aufbauendes, lebens
 bejahendes Konzert.\nTickets: 22€ VVK - 24€ AK\nVVK Kölnticket \n\nWer sind
  Sabine van Baaren und Mark Joggerst?\n\nDer niederländischen Sängerin Sabi
 ne van Baaren wurde eine begnadete Stimme in die Wiege gelegt. Sie sang mit
  namhaften Künstlern aus der ganzen Welt, wie Pe Werner, Rainhard Fendrich,
  Jon Lord, Miguel Rios, Phil Carmen, Gitte Haenning, Winni Hsin. Während ih
 rer erfolgreichen Karriere als Solo und Chorsängerin, Coach und Seminarleit
 erin hat sie wertvolles Knowhow gesammelt, das sie in all ihre Projekte mit
  einfließen lässt. VOCALEROS, ihr a-cappella Projekt gelangte sofort in die
  Charts. Es folgten 8 Jahre Konzerte und ausgedehnte Tourneen, die sie bis 
 nach Taiwan führten.\n\nIhr Duo Projekt mit dem Filmkomponisten Mark Jogger
 st liegt ihr sehr am Herzen und ist ein besonderes Highlight für diejenigen
 , die das neue Jahr 2023 mit zelebrieren und in neue Klangwelten eintauchen
  möchten.\nDer deutsche Filmkomponist, Pianist und Arrangeur Mark Joggerst 
 hat die besondere Gabe, inspirierende Musik zu schreiben. Musik, die einen 
 sofort „erwischt“.\nBereits als Kind war er nicht vom Klavier wegzubekommen
 . Und so lag es nahe, dass er sein Talent beruflich umgesetzt hat. Seither 
 hat er zu über 60 Filmen die Musik geschrieben.\nDaneben arbeitete er mit i
 nternationalen Künstlern wie Joe Pesci, Jimmy Scott,Bob Mintzer, Arturo San
 doval, Joey de Francesco, James Moody, Monica Mancini, Renee Olstead, Peter
  Erskine, Oscar Castro Neves, Kenny Barron, David Sanborn, Dee DeeBridgewat
 er.\nWeitere Infos:\n<a class="" style="font-style: normal; font-weight: 40
 0; letter-spacing: normal; text-align: start; text-indent: 0px; text-transf
 orm: none; white-space: normal; word-spacing: 0px; font-family: ArialMT; fo
 nt-size: 14px;" href="https://www.sabinevanbaaren.de/de/cd-shop/download-sh
 op.html">https://www.sabinevanbaaren.de/de/cd-shop/download-shop.html</a>ww
 w.sabinevanbaaren.de (http://www.sabinevanbaaren.de/)<a style="font-style: 
 normal; font-weight: 400; letter-spacing: normal; text-align: start; text-i
 ndent: 0px; text-transform: none; white-space: normal; word-spacing: 0px; f
 ont-family: ArialMT; font-size: 14px;" href="http://www.jvanbmusic.com/">ht
 tp://www.jvanbmusic.com</a>\n
X-ALT-DESC;FMTTYPE=text/html:<p><br />Die Musik von diesem wunderbaren Duo ist wie &nbsp;"Geschenk aus d
 em Himmel“.<br />Sabine und Mark werden mit ihren erhebenden Klangcollagen 
 und ihren Songs das Publikum erfreuen.<br />Seit 15 Jahren ist das Duo ein 
 echtes Highlight im Hinterhofsalon.<br />Das Ziel der beiden ist es, Mensch
 en mit ihrer teils aus dem Moment heraus entstehenden Musik im Herzen zu be
 rühren. Wir freuen uns auf ein Konzert mit Musik, die die Kraft hat, innere
 n Frieden zu vermitteln, die Zuhörerinnen und Zuhörer in Verbindung zu sich
  selbst zu bringen, sie mit besonderen Klängen auf eine innere Reise mitzun
 ehmen. Daneben gibt es wie immer Mut machende Songs, die zu neuen Impulsen 
 und Denkanstößen inspiriert.</p><p>Freuen Sie sich auf ein besinnliches, le
 bendiges, aufbauendes, lebensbejahendes Konzert.<br />Tickets: 22€ VVK - 24
 € AK</p><p>VVK Kölnticket <a href="https://www.koelnticket.de/duo+konzert+m
 it+sabine+van+baaren+und+mark+joggerst-ticket-67/?evid=2736429&amp;referer_
 info=kt_c1_allgemein&amp;tId=&amp;forwardingTicket=&amp;pageId=67">HIER</a>
 <br /><br />Wer sind Sabine van Baaren und Mark Joggerst?<br /><br />Der ni
 ederländischen <strong>Sängerin Sabine van Baaren</strong> wurde eine begna
 dete Stimme in die Wiege gelegt. Sie sang mit namhaften Künstlern aus der g
 anzen Welt, wie Pe Werner, Rainhard Fendrich, Jon Lord, Miguel Rios, Phil C
 armen, Gitte Haenning, Winni Hsin. Während ihrer erfolgreichen Karriere als
  Solo und Chorsängerin, Coach und Seminarleiterin hat sie wertvolles Knowho
 w gesammelt, das sie in all ihre Projekte mit einfließen lässt. VOCALEROS, 
 ihr a-cappella Projekt gelangte sofort in die Charts. Es folgten 8 Jahre Ko
 nzerte und ausgedehnte Tourneen, die sie bis nach Taiwan führten.<br /><br 
 />Ihr Duo Projekt mit dem <strong>Filmkomponisten Mark Joggerst</strong> li
 egt ihr sehr am Herzen und ist ein besonderes Highlight für diejenigen, die
  das neue Jahr 2023 mit zelebrieren und in neue Klangwelten eintauchen möch
 ten.<br />Der deutsche Filmkomponist, Pianist und Arrangeur Mark Joggerst h
 at die besondere Gabe, inspirierende Musik zu schreiben. Musik, die einen s
 ofort „erwischt“.<br />Bereits als Kind war er nicht vom Klavier wegzubekom
 men. Und so lag es nahe, dass er sein Talent beruflich umgesetzt hat. Seith
 er hat er zu über 60 Filmen die Musik geschrieben.<br />Daneben arbeitete e
 r mit internationalen Künstlern wie Joe Pesci, Jimmy Scott,Bob Mintzer, Art
 uro Sandoval, Joey de Francesco, James Moody, Monica Mancini, Renee Olstead
 , Peter Erskine, Oscar Castro Neves, Kenny Barron, David Sanborn, Dee DeeBr
 idgewater.<br />Weitere Infos:</p><p><a class="" style="font-style: normal;
  font-weight: 400; letter-spacing: normal; text-align: start; text-indent: 
 0px; text-transform: none; white-space: normal; word-spacing: 0px; font-fam
 ily: ArialMT; font-size: 14px;" href="https://www.sabinevanbaaren.de/de/cd-
 shop/download-shop.html">https://www.sabinevanbaaren.de/de/cd-shop/download
 -shop.html</a><br class="" style="font-style: normal; font-weight: 400; let
 ter-spacing: normal; text-align: start; text-indent: 0px; text-transform: n
 one; white-space: normal; word-spacing: 0px; text-decoration: none; color: 
 #000000; font-family: ArialMT; font-size: 14px;" /><a style="font-style: no
 rmal; font-weight: 400; letter-spacing: normal; text-align: start; text-ind
 ent: 0px; text-transform: none; white-space: normal; word-spacing: 0px; fon
 t-family: ArialMT; font-size: 14px;" href="http://www.sabinevanbaaren.de/">
 www.sabinevanbaaren.de</a><span style="font-style: normal; font-weight: 400
 ; letter-spacing: normal; text-align: start; text-indent: 0px; text-transfo
 rm: none; white-space: normal; word-spacing: 0px; text-decoration: none; co
 lor: #000000; font-family: ArialMT; font-size: 14px; float: none;"></span><
 br class="" style="font-style: normal; font-weight: 400; letter-spacing: no
 rmal; text-align: start; text-indent: 0px; text-transform: none; white-spac
 e: normal; word-spacing: 0px; text-decoration: none; color: #000000; font-f
 amily: ArialMT; font-size: 14px;" /><a style="font-style: normal; font-weig
 ht: 400; letter-spacing: normal; text-align: start; text-indent: 0px; text-
 transform: none; white-space: normal; word-spacing: 0px; font-family: Arial
 MT; font-size: 14px;" href="http://www.jvanbmusic.com/">http://www.jvanbmus
 ic.com</a></p>
DTSTAMP:20260425T154320
DTSTART;TZID=Europe/Berlin:20230115T170000
DTEND;TZID=Europe/Berlin:20230115T200000
SEQUENCE:0
TRANSP:OPAQUE
END:VEVENT
END:VCALENDAR