BEGIN:VCALENDAR
VERSION:2.0
PRODID:-//jEvents 2.0 for Joomla//EN
CALSCALE:GREGORIAN
METHOD:PUBLISH
BEGIN:VTIMEZONE
TZID:Europe/Berlin
END:VTIMEZONE
BEGIN:VEVENT
UID:b75f9d67283e4a438cc4c8462fd86793
CATEGORIES:Konzerte
CREATED:20221129T222635
SUMMARY:TANGO PARA TI
DESCRIPTION: Vom Rhein zum Rio de la Plata \n„Tango Para Ti“ begeistert durch seine eig
 ene Interpretation des Tangos und nimmt Sie mit auf eine aufregende musikal
 ische Reise zu den argentinischen Wurzeln des Tangos. Erleben Sie mit dem Q
 uartett die argentinischen-, aber auch die rheinischen Wurzeln des Tangos. 
 Genießen Sie diese wunderschöne Musik und geben Sie sich der Milonga, dem V
 alz und dem Tango hin. \nEintritt: 18,00 €\nVVK Kölnticket \nTango Para Ti 
 sind: \n Volker Höhmann – Kontrabass \n Henrik Albrecht - Bandoneon \n Stef
 an Thomas - Klavier\n Wolfgang Richter - Violine\nIm Anschluß findet eine M
 ilonga statt.....\n
X-ALT-DESC;FMTTYPE=text/html:<p>&nbsp;Vom Rhein zum Rio de la Plata&nbsp;</p><p>„Tango Para Ti“ begeiste
 rt durch seine eigene Interpretation des Tangos und nimmt Sie mit auf eine 
 aufregende musikalische Reise zu den argentinischen Wurzeln des Tangos. Erl
 eben Sie mit dem Quartett die argentinischen-, aber auch die rheinischen Wu
 rzeln des Tangos. Genießen Sie diese wunderschöne Musik und geben Sie sich 
 der Milonga, dem Valz und dem Tango hin.&nbsp;</p><p>Eintritt: 18,00 €<br /
 >VVK Kölnticket <a href="https://www.koelnticket.de/tango+para+ti+-+vom+rhe
 in+zum+rio+de+la+plata-ticket-67/?evid=2734624&amp;referer_info=kt_c1_allge
 mein&amp;tId=&amp;forwardingTicket=&amp;pageId=67">HIER</a></p><p>Tango Par
 a Ti sind: <br /> Volker Höhmann – Kontrabass <br /> Henrik Albrecht - Band
 oneon <br /> Stefan Thomas - Klavier<br /> Wolfgang Richter - Violine</p><p
 >Im Anschluß findet eine Milonga statt.....</p>
DTSTAMP:20260425T184021
DTSTART;TZID=Europe/Berlin:20230114T200000
DTEND;TZID=Europe/Berlin:20230114T220000
SEQUENCE:0
TRANSP:OPAQUE
END:VEVENT
END:VCALENDAR