BEGIN:VCALENDAR
VERSION:2.0
PRODID:-//jEvents 2.0 for Joomla//EN
CALSCALE:GREGORIAN
METHOD:PUBLISH
BEGIN:VTIMEZONE
TZID:Europe/Berlin
END:VTIMEZONE
BEGIN:VEVENT
UID:cb867fbc893ab0b13b09c02688bac6a6
CATEGORIES:Konzerte, Lesungen, Tanz
CREATED:20221129T224000
SUMMARY:DAS MEERMÄDCHEN
DESCRIPTION:Das Meermädchen - Eine musikalische Romanlesung\nJason Waterstone ist ein v
 irtuoser Tänzer und Choreograph, der bereits in jungen Jahren als Jahrhunde
 rttalent gefeiert wird. Sein Weltruhm ist vorprogrammiert, sein Aufstieg ba
 hnbrechend. Erst Jasons plötzlich ausbrechende Schizophrenie-Erkrankung lei
 tet eine dramatische Lebenswende ein.\nEine Ausnahme-Karriere auf den inter
 nationalen Bühnen mit ihren Höhen und dem tiefen Fall. Die Musik wurde von 
 Jan Weigelt eigens für den Roman komponiert. Ihre Klänge erzählen die Gesch
 ichte auf musikalischer Ebene, verweben sich mit den Worten. Petra Vetter i
 st selbst Tänzerin, Choreographin und Regisseurin und wirft mit ihrem Roman
  einen spannungsreichen Blick hinter die Kulissen des Theaters.  \nFesselnd
 , bewegend, mitreißend.\nEintritt: 15 €\nVVK Kölnticket \n
X-ALT-DESC;FMTTYPE=text/html:<p>Das Meermädchen - Eine musikalische Romanlesung</p><p>Jason Waterstone i
 st ein virtuoser Tänzer und Choreograph, der bereits in jungen Jahren als J
 ahrhunderttalent gefeiert wird. Sein Weltruhm ist vorprogrammiert, sein Auf
 stieg bahnbrechend. Erst Jasons plötzlich ausbrechende Schizophrenie-Erkran
 kung leitet eine dramatische Lebenswende ein.</p><p>Eine Ausnahme-Karriere 
 auf den internationalen Bühnen mit ihren Höhen und dem tiefen Fall.&nbsp;Di
 e Musik wurde von Jan Weigelt eigens für den Roman komponiert. Ihre Klänge 
 erzählen die Geschichte auf musikalischer Ebene, verweben sich mit den Wort
 en.&nbsp;Petra Vetter ist selbst Tänzerin, Choreographin und Regisseurin un
 d wirft mit ihrem Roman einen spannungsreichen Blick hinter die Kulissen de
 s Theaters. &nbsp;</p><p>Fesselnd, bewegend, mitreißend.</p><p>Eintritt: 15
  €</p><p>VVK Kölnticket <a href="https://www.koelnticket.de/meermädchen+-+e
 ine+musikalische+romanlesung-ticket-67/?evid=2710291&amp;referer_info=kt_c1
 _allgemein&amp;tId=&amp;forwardingTicket=&amp;pageId=67">HIER</a></p>
DTSTAMP:20260425T183502
DTSTART;TZID=Europe/Berlin:20230113T200000
DTEND;TZID=Europe/Berlin:20230113T220000
SEQUENCE:0
TRANSP:OPAQUE
END:VEVENT
END:VCALENDAR