BEGIN:VCALENDAR
VERSION:2.0
PRODID:-//jEvents 2.0 for Joomla//EN
CALSCALE:GREGORIAN
METHOD:PUBLISH
BEGIN:VTIMEZONE
TZID:Europe/Berlin
END:VTIMEZONE
BEGIN:VEVENT
UID:6583a2a353e74d1ddf88260296fb7a62
CATEGORIES:Konzerte
CREATED:20221129T225215
SUMMARY:PORTOFINO
DESCRIPTION:PORTOFINO spielt bekannte und unbekannte Latinjazz-Standards, aber auch afr
 operuanische Eigenkompositionen von Mona Roth. Die richtige Musik, um den W
 inter zu vertreiben.\nZur Band gehörten heute noch die Gründungsmitglieder 
 Florian Dietz (Schlagzeug), Marcus Seibert (Klarinette, Saxophon) und der C
 ongero von Roberto Blance Pablo Ramirez. Seit vier Jahren dabei: Mona Roth,
  Pianistin und Komponistin mit großer Leidenschaft für lateinamerikanische 
 Musik und tollen Stücken. Zuletzt war sie mit Pablo Ramirez als Duo MALIMA 
 im Hinterhofsalon zu hören. Sie freut sich schon auf den wunderbaren Flügel
 . Mit dabei diesmal Daniel Oetz Salcines am Bass, ein viel gefragter Sidema
 n mit chilenischen Wurzeln. \nEintritt: 18 €\nVVK Kölnticket \nBesetzung:\n
 Marcus Seibert – Klarinette, Saxophon \nMona Roth – Klavier, Komposition\nD
 aniel Oetz Salcines – Bass\nFlorian Dietz – Schlagzeug\nPablo Ramirez – Con
 ga, Cajón\n
X-ALT-DESC;FMTTYPE=text/html:<p>PORTOFINO spielt bekannte und unbekannte Latinjazz-Standards, aber auch 
 afroperuanische Eigenkompositionen von Mona Roth. Die richtige Musik, um de
 n Winter zu vertreiben.</p><p>Zur Band gehörten heute noch die Gründungsmit
 glieder Florian Dietz (Schlagzeug), Marcus Seibert (Klarinette, Saxophon) u
 nd der Congero von Roberto Blance Pablo Ramirez. Seit vier Jahren dabei: Mo
 na Roth, Pianistin und Komponistin mit großer Leidenschaft für lateinamerik
 anische Musik und tollen Stücken. Zuletzt war sie mit Pablo Ramirez als Duo
  MALIMA im Hinterhofsalon zu hören. Sie freut sich schon auf den wunderbare
 n Flügel. Mit dabei diesmal Daniel Oetz Salcines am Bass, ein viel gefragte
 r Sideman mit chilenischen Wurzeln.&nbsp;</p><p>Eintritt: 18 €<br />VVK Köl
 nticket <a href="https://www.koelnticket.de/portofino+-+latin+jazz-ticket-6
 7/?evid=2734772&amp;referer_info=kt_c1_allgemein&amp;tId=&amp;forwardingTic
 ket=&amp;pageId=67">Hier</a></p><p>Besetzung:<br />Marcus Seibert –&nbsp;Kl
 arinette, Saxophon&nbsp;<br />Mona Roth – Klavier, Komposition<br />Daniel 
 Oetz Salcines – Bass<br />Florian Dietz –&nbsp;Schlagzeug<br />Pablo Ramire
 z –&nbsp;Conga, Cajón</p>
DTSTAMP:20260425T183624
DTSTART;TZID=Europe/Berlin:20230128T200000
DTEND;TZID=Europe/Berlin:20230128T220000
SEQUENCE:0
TRANSP:OPAQUE
END:VEVENT
END:VCALENDAR