BEGIN:VCALENDAR
VERSION:2.0
PRODID:-//jEvents 2.0 for Joomla//EN
CALSCALE:GREGORIAN
METHOD:PUBLISH
BEGIN:VTIMEZONE
TZID:Europe/Berlin
END:VTIMEZONE
BEGIN:VEVENT
UID:3e238f9bccdbcd20429adf4fee87f618
CATEGORIES:Konzerte, Kunst, Yoga
CREATED:20221129T225501
SUMMARY:VISUELLE ALCHEMIE 
DESCRIPTION:Finissage, Medidation,  Liegekonzert und Tanzen \nDer Künstler Chitree Kai 
 lädt zur Finisage ab 14.30h ein. \n Beim Betrachten seiner farbenfrohen ins
 pirierenden Bilder taucht man in die Bilder ein und kommt zur Ruhe…\nDaher 
 findet passend dazu von 16h bis 16.45h eine Tahiti Yoga Movement Meditation
  statt. Im Anschluss daran findet ein Liegekonzert mit der Band Nomadian vo
 n 17.30h bis 19h statt. Und danach noch weiterer schönen Klängen zum Bewege
 n, \nTanzen von Jane Tayo. \n Eintritt für  Konzert und Meditation und Tanz
 : 20 €\nVVK Kölnticket \n
X-ALT-DESC;FMTTYPE=text/html:<p>Finissage, Medidation, &nbsp;Liegekonzert und Tanzen&nbsp;</p><p>Der Kün
 stler Chitree Kai lädt zur Finisage ab 14.30h ein.&nbsp;<br /> Beim Betrach
 ten seiner farbenfrohen inspirierenden Bilder taucht man in die Bilder ein 
 und kommt zur Ruhe…</p><p>Daher findet passend dazu von 16h bis 16.45h eine
  Tahiti Yoga Movement Meditation statt. Im Anschluss daran findet ein Liege
 konzert mit der Band Nomadian von 17.30h bis 19h statt. Und danach noch wei
 terer schönen Klängen zum Bewegen, <br />Tanzen von Jane Tayo. <br /> Eintr
 itt für &nbsp;Konzert und Meditation und Tanz: 20 €<br />VVK Kölnticket <a 
 href="https://www.koelnticket.de/visuelle+alchemie++finissage+und+liegekonz
 ert+-+tahiti+yoga+movement+meditation-ticket-67/?evid=2740610&amp;referer_i
 nfo=kt_c1_allgemein&amp;tId=&amp;forwardingTicket=&amp;pageId=67">HIER</a><
 /p>
DTSTAMP:20260425T183609
DTSTART;TZID=Europe/Berlin:20230129T143000
DTEND;TZID=Europe/Berlin:20230129T210000
SEQUENCE:0
TRANSP:OPAQUE
END:VEVENT
END:VCALENDAR