BEGIN:VCALENDAR
VERSION:2.0
PRODID:-//jEvents 2.0 for Joomla//EN
CALSCALE:GREGORIAN
METHOD:PUBLISH
BEGIN:VTIMEZONE
TZID:Europe/Berlin
END:VTIMEZONE
BEGIN:VEVENT
UID:0aa7e62ddddc5f6b7454244adb7d3121
CATEGORIES:Konzerte
CREATED:20230110T093030
SUMMARY:Ein KURTzWEILLiger Konzertabend mit Gesang und Klavier
DESCRIPTION:  Das Musikduo Hanna Rulhoff (Sopran) und Anna Sigalova (Klavier) lädt zu e
 iner spannende Reise quer durch das Leben und Schaffenswerk des Ausnahmekün
 stlers Kurt Weill ein. Obwohl der Name vielen nicht geläufig ist, so hat do
 ch jeder schon einmal von seinem berühmtesten Werk, der Dreirgoschenoper ge
 hört und ist mit seinen bekanntesten Schlagern vertraut. \n Sie präsentiere
 n aus  Weills mehr als 30 Bühnenwerken eine exquisite Auswahl seines großar
 tigen Schaffens auf höchstem künstlerischen Niveau. Die Reise geht durch se
 inen drei Lebensstationen in die schillernden Metropolen Berlin, Paris und 
 New York der 1920-er, 30-er und 40-er Jahre.\nLehnt euch zurück und genießt
  mit uns gemeinsam ein buntes Portfolio von Berliner Schlagern wie Macky Me
 sser oder Erich Kästners humorvollem Abschiedsbrief, schwelgerischen franzö
 sischen Chansons wie Je ne t´aime pas und einem Auszug aus Weills berühmten
  Hollywood Musicals One Touch of Venus und Lady in the Dark. Es ist für jed
 en Geschmack etwas dabei!\nEintritt: 18 €\nKölnticket kaufen \n
X-ALT-DESC;FMTTYPE=text/html:<p>&nbsp;&nbsp;Das Musikduo Hanna Rulhoff (Sopran) und Anna Sigalova (Klavi
 er) lädt zu einer spannende Reise quer durch das Leben und Schaffenswerk de
 s Ausnahmekünstlers Kurt Weill ein. Obwohl der Name vielen nicht geläufig i
 st, so hat doch jeder schon einmal von seinem berühmtesten Werk, der Dreirg
 oschenoper gehört und ist mit seinen bekanntesten Schlagern vertraut.&nbsp;
 </p><p>&nbsp;Sie präsentieren aus&nbsp; Weills mehr als 30 Bühnenwerken ein
 e exquisite Auswahl seines großartigen Schaffens auf höchstem künstlerische
 n Niveau. Die Reise geht durch seinen drei Lebensstationen in die schillern
 den Metropolen Berlin, Paris und New York der 1920-er, 30-er und 40-er Jahr
 e.</p><p>Lehnt euch zurück und genießt mit uns gemeinsam ein buntes Portfol
 io von Berliner Schlagern wie Macky Messer oder Erich Kästners humorvollem 
 Abschiedsbrief, schwelgerischen französischen Chansons wie Je ne t´aime pas
  und einem Auszug aus Weills berühmten Hollywood Musicals One Touch of Venu
 s und Lady in the Dark. Es ist für jeden Geschmack etwas dabei!</p><p>Eintr
 itt: 18 €</p><p>Kölnticket kaufen <a href="https://www.koelnticket.de/ein+k
 urtzweilliger+konzertabend+mit+gesang+und+klavier-ticket-67/?evid=2734608&a
 mp;referer_info=kt_c1_allgemein&amp;tId=&amp;forwardingTicket=&amp;pageId=6
 7">HIER</a></p>
DTSTAMP:20260425T183757
DTSTART;TZID=Europe/Berlin:20230127T200000
DTEND;TZID=Europe/Berlin:20230127T220000
SEQUENCE:0
TRANSP:OPAQUE
END:VEVENT
END:VCALENDAR