BEGIN:VCALENDAR
VERSION:2.0
PRODID:-//jEvents 2.0 for Joomla//EN
CALSCALE:GREGORIAN
METHOD:PUBLISH
BEGIN:VTIMEZONE
TZID:Europe/Berlin
END:VTIMEZONE
BEGIN:VEVENT
UID:18b53e38fa835358e62c7035e0cb2192
CATEGORIES:Konzerte
CREATED:20240506T211137
SUMMARY:TANGOYIM
DESCRIPTION:<div><strong><span style="color: #ff0000;">Klezmer, jiddische Lieder und Ta
 ngos</span></strong><br><br></div><div>Mit Gesang, Geige, Akkordeon und Kla
 rinette nimmt das Duo Tangoyim &nbsp;(Stefanie Hölzle (Geige, Klarinette, B
 ratsche, Gesang) und Daniel Marsch (Akkordeon, Gesang)<span style="font-sty
 le: normal; font-weight: 400; letter-spacing: normal; text-align: start; te
 xt-indent: 0px; text-transform: none; white-space: normal; word-spacing: 0p
 x; text-decoration: none; color: #3b2b20; font-family: Candara, Calibri, Se
 goe, 'Segoe UI', Optima, Arial, sans-serif; font-size: 15.2px; background-c
 olor: #fafaf9; float: none;"></span>die Zuhörer mit auf eine Reise durch di
 e jüdische Musik, von der versunkenen Welt des osteuropäischen Shtetl bis i
 ns Amerika der 1920er Jahre.<br>Zwischen den Liedern runden ruhige Klezmerm
 elodien und Tänze voller Lebensfreude das Programm ab.</div><div>Mal heiter
 , mal melancholisch, mal ernst, mal ausgelassen, langsam und getragen oder 
 rasch voranspringend - die Musik ist so vielseitig wie das Leben selbst.<br
 ><br></div><div>Eintritt: 20,00 €<br>VVK Kölnticket <a href="https://www.ko
 elnticket.de/artist/tangoyim/?affiliate=KT1">HIER</a></div>
DTSTAMP:20260421T090721
DTSTART;TZID=Europe/Berlin:20240824T200000
DTEND;TZID=Europe/Berlin:20240824T223000
SEQUENCE:0
TRANSP:OPAQUE
END:VEVENT
END:VCALENDAR