BEGIN:VCALENDAR
VERSION:2.0
PRODID:-//jEvents 2.0 for Joomla//EN
CALSCALE:GREGORIAN
METHOD:PUBLISH
BEGIN:VTIMEZONE
TZID:Europe/Berlin
END:VTIMEZONE
BEGIN:VEVENT
UID:562f33a765b761efad76d1531c2a673c
CATEGORIES:Konzerte, Lesungen
CREATED:20260311T233344
SUMMARY:DAS GEHEIMNIS DER ZIGARRENKÖNIGIN
DESCRIPTION:<h2 data-section-id="1hrsdij" data-start="534" data-end="618">Historischer 
 Kuba-Roman trifft Musik</h2><p data-start="620" data-end="899">Die Kölner K
 ünstlerin/Autorin und Besitzerin des Zigarrensalons La Galana in Ehrenfeld 
 &nbsp;präsentiert Ausschnitte aus ihrem historischen Roman&nbsp;<strong dat
 a-start="832" data-end="871">„Das Geheimnis der Zigarrenkönigin“</strong>&n
 bsp;– begleitet von Live-Musik.</p><p data-start="901" data-end="1203">Die 
 Lesung führt in das&nbsp;<strong data-start="925" data-end="954">Kuba des 1
 9. Jahrhunderts</strong>. Erzählt wird die Geschichte einer jungen Frau, di
 e von&nbsp;<strong data-start="1011" data-end="1034">Bremen nach Havanna</s
 trong>&nbsp;reist und dort ihren eigenen Weg sucht. Die Saga verbindet deut
 sche und karibische Geschichte und zeichnet ein lebendiges Bild der Zeit zw
 ischen Europa und der Karibik.</p><p data-start="1205" data-end="1473">Anne
 tte Meisl liest nicht nur aus ihrem Roman, sondern verbindet Literatur mit 
 Musik: Zwischen den Textpassagen singt sie eigene&nbsp;<strong data-start="
 1334" data-end="1371">Chansons auf Deutsch und Spanisch</strong>. Am Klavie
 r begleitet sie&nbsp;<strong data-start="1398" data-end="1425">Nicholas von
  der Nahmer</strong>, dessen Spiel die Szenen kongenial musikalisch aufgrei
 ft.</p><p data-start="1475" data-end="1596">Der Abend verbindet&nbsp;<stron
 g data-start="1495" data-end="1528">Lesung, Konzert und Erzählung</strong>&
 nbsp;– ein Format zwischen Literaturabend und musikalischer Performance.</p
 ><p data-start="1598" data-end="1807">Passend zum Thema Kuba kann im Anschl
 uss ein&nbsp;<strong data-start="1643" data-end="1684">Rum aus dem Zigarren
 salon „La Galana“</strong>&nbsp;verkostet werden. Außerdem besteht die Mögl
 ichkeit, den Roman&nbsp;<strong data-start="1747" data-end="1786">„Das Gehe
 imnis der Zigarrenkönigin“</strong>&nbsp;signieren zu lassen.</p><p>Eintrit
 t: 18,00 € / 14,00 €<br>VVK Kölnticket <a href="https://www.koelnticket.de/
 eventseries/das-geheimnis-der-zigarrenkoenigin-4117850/?affiliate=5SO">HIER
 </a></p>
DTSTAMP:20260422T095411
DTSTART;TZID=Europe/Berlin:20260605T200000
SEQUENCE:0
TRANSP:OPAQUE
END:VEVENT
END:VCALENDAR